BEGIN:VCALENDAR
VERSION:2.0
PRODID:-//BWT//FR
CALSCALE:GREGORIAN
BEGIN:VEVENT
UID:ceb149ed-f984-4fb7-9321-90c79f00528a
DTSTAMP:20260420T074504Z
METHOD:REQUEST
SUMMARY:Zagg
CLASS:PUBLIC
CREATED:20260420T074504Z
DESCRIPTION:Testez notre BWT WasserBar - ce système de distribution permet aux restaurateurs d'obtenir de l'eau réfrigérée et minéralisée, avec ou sans gaz carbonique.
DTSTART:20261025T000000Z
DTEND:20261028T000000Z
LOCATION:Switzerland, Lucerne,
SEQUENCE:0
END:VEVENT
END:VCALENDAR
