BEGIN:VCALENDAR
VERSION:2.0
PRODID:-//BWT//FR
CALSCALE:GREGORIAN
BEGIN:VEVENT
UID:fe64a38b-eb5f-46b3-bc84-ccd9bdedde5d
DTSTAMP:20260420T063017Z
METHOD:REQUEST
SUMMARY:Best Water Run x B2Run Basel
CLASS:PUBLIC
CREATED:20260420T063017Z
DESCRIPTION:BWT est partenaire officiel de la série suisse de courses B2Run et fait du B2Run Basel le « BWT Best Water Run » ! La série B2Run s’adresse aux entreprises suisses et à leurs collaboratrices et collaborateurs.
DTSTART:20260508T000000Z
DTEND:20260508T000000Z
LOCATION:Switzerland, Bâle,
SEQUENCE:0
END:VEVENT
END:VCALENDAR
